BEGIN:VCALENDAR
VERSION:2.0
PRODID:-//IP Pathways - ECPv6.15.17.1//NONSGML v1.0//EN
CALSCALE:GREGORIAN
METHOD:PUBLISH
X-WR-CALNAME:IP Pathways
X-ORIGINAL-URL:https://www.ippathways.com
X-WR-CALDESC:Events for IP Pathways
REFRESH-INTERVAL;VALUE=DURATION:PT1H
X-Robots-Tag:noindex
X-PUBLISHED-TTL:PT1H
BEGIN:VTIMEZONE
TZID:UTC
BEGIN:STANDARD
TZOFFSETFROM:+0000
TZOFFSETTO:+0000
TZNAME:UTC
DTSTART:20240101T000000
END:STANDARD
END:VTIMEZONE
BEGIN:VEVENT
DTSTART;TZID=UTC:20251022T080000
DTEND;TZID=UTC:20251024T140000
DTSTAMP:20260422T081609
CREATED:20250904T203401Z
LAST-MODIFIED:20250904T203401Z
UID:10000011-1761120000-1761314400@www.ippathways.com
SUMMARY:Nebraska Hospitals Association Annual Convention + Trade Show
DESCRIPTION:IP Pathways is honored to attend the Nebraska Hospital Association Annual Convention and Trade Show\, a premier gathering for healthcare leaders and professionals across the state. This event brings together hospital executives\, industry experts\, and technology partners to exchange ideas and address the challenges shaping the future of healthcare. \nOur team will be on-site to share how IP Pathways helps healthcare organizations strengthen their IT environments with secure\, scalable\, and compliant solutions that support patient care and operational efficiency. We look forward to connecting with hospital leaders and contributing to conversations that drive innovation in healthcare.
URL:https://www.ippathways.com/event/nebraska-hospitals-association-annual-convention-trade-show/
LOCATION:Embassy Suites Conference Center\, 12520 Westport Pkwy\, La Vista\, NE\, 68128\, United States
CATEGORIES:Omaha
END:VEVENT
BEGIN:VEVENT
DTSTART;VALUE=DATE:20251030
DTEND;VALUE=DATE:20251031
DTSTAMP:20260422T081609
CREATED:20250904T203955Z
LAST-MODIFIED:20250904T203955Z
UID:10000012-1761782400-1761868799@www.ippathways.com
SUMMARY:Tech Nebraska Summit
DESCRIPTION:IP Pathways is proud to be part of the Tech Nebraska Summit\, a statewide event focused on the role of technology in shaping Nebraska’s economy and communities. The summit brings together business leaders\, IT professionals and innovators for a day of collaboration and forward-thinking conversations. \nBy attending\, our team looks forward to connecting with attendees and sharing how IP Pathways supports organizations with technology solutions that are secure\, reliable and built for growth. We’re excited to be part of the dialogue on how technology continues to move Nebraska forward.
URL:https://www.ippathways.com/event/tech-nebraska-summit/
LOCATION:Omaha Marriott Downtown the Capitol District\, 222 N 10th St\, Omaha\, NE\, 68102\, United States
CATEGORIES:Omaha
END:VEVENT
END:VCALENDAR